BEGIN:VCALENDAR
VERSION:2.0
PRODID:-//Operation Refuge - ECPv6.15.20//NONSGML v1.0//EN
CALSCALE:GREGORIAN
METHOD:PUBLISH
X-WR-CALNAME:Operation Refuge
X-ORIGINAL-URL:https://operationrefuge.org
X-WR-CALDESC:Events for Operation Refuge
REFRESH-INTERVAL;VALUE=DURATION:PT1H
X-Robots-Tag:noindex
X-PUBLISHED-TTL:PT1H
BEGIN:VTIMEZONE
TZID:UTC
BEGIN:STANDARD
TZOFFSETFROM:+0000
TZOFFSETTO:+0000
TZNAME:UTC
DTSTART:20240101T000000
END:STANDARD
END:VTIMEZONE
BEGIN:VEVENT
DTSTART;TZID=UTC:20250114T080000
DTEND;TZID=UTC:20250114T170000
DTSTAMP:20260424T154701
CREATED:20250105T022745Z
LAST-MODIFIED:20250105T022745Z
UID:23896-1736841600-1736874000@operationrefuge.org
SUMMARY:Test Event 4
DESCRIPTION:
URL:https://operationrefuge.org/event/test-event-4/
LOCATION:Test Event Hall\, 123 Main Street\, Inkster\, MI\, 12345\, United States
ATTACH;FMTTYPE=image/jpeg:https://operationrefuge.org/wp-content/uploads/2024/05/Camp-Inspire-2024-Flyer.jpg
ORGANIZER;CN="Grady Test":MAILTO:test@campinspire.org
END:VEVENT
BEGIN:VEVENT
DTSTART;TZID=UTC:20250110T080000
DTEND;TZID=UTC:20250110T170000
DTSTAMP:20260424T154701
CREATED:20250105T022446Z
LAST-MODIFIED:20250105T022505Z
UID:23892-1736496000-1736528400@operationrefuge.org
SUMMARY:Test Event 2
DESCRIPTION:
URL:https://operationrefuge.org/event/test-event-2/
LOCATION:MI
ATTACH;FMTTYPE=image/jpeg:https://operationrefuge.org/wp-content/uploads/2024/05/20230325_142029-scaled.jpg
ORGANIZER;CN="Grady Test":MAILTO:test@campinspire.org
END:VEVENT
BEGIN:VEVENT
DTSTART;TZID=UTC:20250108T080000
DTEND;TZID=UTC:20250108T170000
DTSTAMP:20260424T154701
CREATED:20250105T021656Z
LAST-MODIFIED:20250105T021657Z
UID:23879-1736323200-1736355600@operationrefuge.org
SUMMARY:TEST EVENT 1
DESCRIPTION:
URL:https://operationrefuge.org/event/test-event-1/
LOCATION:Test Event Hall\, 123 Main Street\, Inkster\, MI\, 12345\, United States
ATTACH;FMTTYPE=image/jpeg:https://operationrefuge.org/wp-content/uploads/2023/07/336279544_1393482018092983_7212702055410332384_n.jpg
ORGANIZER;CN="Grady Test":MAILTO:test@campinspire.org
END:VEVENT
BEGIN:VEVENT
DTSTART;TZID=UTC:20250105T080000
DTEND;TZID=UTC:20250105T170000
DTSTAMP:20260424T154701
CREATED:20250105T022654Z
LAST-MODIFIED:20250105T022654Z
UID:23894-1736064000-1736096400@operationrefuge.org
SUMMARY:Test Event 3
DESCRIPTION:
URL:https://operationrefuge.org/event/test-event-3/
LOCATION:Test Event Hall\, 123 Main Street\, Inkster\, MI\, 12345\, United States
ATTACH;FMTTYPE=image/jpeg:https://operationrefuge.org/wp-content/uploads/2024/05/58379710_2409475712403949_1453622408496807936_o.jpg
ORGANIZER;CN="Grady Test":MAILTO:test@campinspire.org
END:VEVENT
END:VCALENDAR